BEGIN:VCALENDAR
VERSION:2.0
PRODID:-//Trinity Presbyterian - ECPv6.15.20//NONSGML v1.0//EN
CALSCALE:GREGORIAN
METHOD:PUBLISH
X-WR-CALNAME:Trinity Presbyterian
X-ORIGINAL-URL:https://trinityboardmills.org
X-WR-CALDESC:Events for Trinity Presbyterian
REFRESH-INTERVAL;VALUE=DURATION:PT1H
X-Robots-Tag:noindex
X-PUBLISHED-TTL:PT1H
BEGIN:VTIMEZONE
TZID:UTC
BEGIN:STANDARD
TZOFFSETFROM:+0000
TZOFFSETTO:+0000
TZNAME:UTC
DTSTART:20250101T000000
END:STANDARD
END:VTIMEZONE
BEGIN:VEVENT
DTSTART;TZID=UTC:20260427T100000
DTEND;TZID=UTC:20260427T111500
DTSTAMP:20260419T213337
CREATED:20260104T141313Z
LAST-MODIFIED:20260326T092521Z
UID:10014686-1777284000-1777288500@trinityboardmills.org
SUMMARY:Trinity Tots
DESCRIPTION:
URL:https://trinityboardmills.org/event/trinity-tots-2-2-2-2-2/2026-04-27/
LOCATION:Killaney Hall
CATEGORIES:Trinity Tots Featured
ATTACH;FMTTYPE=image/jpeg:https://trinityboardmills.org/wp-content/uploads/2022/11/CrecheEV.jpg
GEO:54.4662977;-5.9128505
END:VEVENT
BEGIN:VEVENT
DTSTART;TZID=UTC:20260429T193000
DTEND;TZID=UTC:20260429T210000
DTSTAMP:20260419T213337
CREATED:20260215T094115Z
LAST-MODIFIED:20260215T101205Z
UID:10018224-1777491000-1777496400@trinityboardmills.org
SUMMARY:Fellowship Groups (Wed)
DESCRIPTION:This session we will be studying Welcome\, the first and third Wednesday of the month in Killaney Hall.
URL:https://trinityboardmills.org/event/fellowship-groups-wed-3-3-2-2-2-2/2026-04-29/
LOCATION:Killaney Hall
CATEGORIES:Fellowship Groups Featured
ATTACH;FMTTYPE=image/jpeg:https://trinityboardmills.org/wp-content/uploads/2022/11/FellowshipGroupEV.jpg
GEO:54.4662977;-5.9128505
END:VEVENT
BEGIN:VEVENT
DTSTART;TZID=UTC:20260430T103000
DTEND;TZID=UTC:20260430T113000
DTSTAMP:20260419T213337
CREATED:20230911T123435Z
LAST-MODIFIED:20260326T081458Z
UID:10013773-1777545000-1777548600@trinityboardmills.org
SUMMARY:Ladies Bible Study
DESCRIPTION:
URL:https://trinityboardmills.org/event/ladies-bible-study-2/2026-04-30/
LOCATION:Killaney Hall
CATEGORIES:Adults,Ladies
ATTACH;FMTTYPE=image/jpeg:https://trinityboardmills.org/wp-content/uploads/2022/11/LadiesBibleStudyEV.jpg
GEO:54.4662977;-5.9128505
END:VEVENT
BEGIN:VEVENT
DTSTART;TZID=UTC:20260430T193000
DTEND;TZID=UTC:20260430T210000
DTSTAMP:20260419T213337
CREATED:20260215T094716Z
LAST-MODIFIED:20260215T133009Z
UID:10018880-1777577400-1777582800@trinityboardmills.org
SUMMARY:Fellowship Groups (Thu)
DESCRIPTION:This session we will be studying Welcome\, the first and third Thursday of the month at Colin and Trish Foreman’s home.
URL:https://trinityboardmills.org/event/fellowship-groups-thu-3-2-2-3-2-2-2-2/2026-04-30/
CATEGORIES:Fellowship Groups Featured
ATTACH;FMTTYPE=image/jpeg:https://trinityboardmills.org/wp-content/uploads/2022/11/FellowshipGroupsEV.jpg
END:VEVENT
BEGIN:VEVENT
DTSTART;TZID=UTC:20260502T183000
DTEND;TZID=UTC:20260502T200000
DTSTAMP:20260419T213337
CREATED:20250820T095239Z
LAST-MODIFIED:20260323T091415Z
UID:10017080-1777746600-1777752000@trinityboardmills.org
SUMMARY:Pulse Junior
DESCRIPTION:
URL:https://trinityboardmills.org/event/pulse-junior-2-2-2-2-2-2/2026-05-02/
LOCATION:Killaney Hall
CATEGORIES:Pulse Featured,Youth & Children
ATTACH;FMTTYPE=image/jpeg:https://trinityboardmills.org/wp-content/uploads/2022/11/Pulse-web-2.jpg
GEO:54.4662977;-5.9128505
END:VEVENT
BEGIN:VEVENT
DTSTART;TZID=UTC:20260503T113000
DTEND;TZID=UTC:20260503T123000
DTSTAMP:20260419T213337
CREATED:20221031T111539Z
LAST-MODIFIED:20241217T123050Z
UID:10003079-1777807800-1777811400@trinityboardmills.org
SUMMARY:Morning Worship
DESCRIPTION:
URL:https://trinityboardmills.org/event/morning-service/2026-05-03/
LOCATION:Church Building\, BT27 6UP\, United Kingdom
CATEGORIES:Sunday
ATTACH;FMTTYPE=image/jpeg:https://trinityboardmills.org/wp-content/uploads/2022/11/SundayEV.jpg
GEO:54.466933365694;-5.9199475846608
END:VEVENT
BEGIN:VEVENT
DTSTART;TZID=UTC:20260503T114500
DTEND;TZID=UTC:20260503T123000
DTSTAMP:20260419T213337
CREATED:20221031T111350Z
LAST-MODIFIED:20241217T123139Z
UID:10007496-1777808700-1777811400@trinityboardmills.org
SUMMARY:Sunday CE & Creche
DESCRIPTION:
URL:https://trinityboardmills.org/event/sundayce/2026-05-03/
LOCATION:Kerr Room
CATEGORIES:Children
ATTACH;FMTTYPE=image/jpeg:https://trinityboardmills.org/wp-content/uploads/2022/11/SundayCEEV.jpg
END:VEVENT
BEGIN:VEVENT
DTSTART;TZID=UTC:20260503T183000
DTEND;TZID=UTC:20260503T191500
DTSTAMP:20260419T213337
CREATED:20240903T080905Z
LAST-MODIFIED:20260405T092003Z
UID:10010991-1777833000-1777835700@trinityboardmills.org
SUMMARY:Evening Service
DESCRIPTION:
URL:https://trinityboardmills.org/event/evening-service-2/2026-05-03/
LOCATION:Church Building\, BT27 6UP\, United Kingdom
CATEGORIES:Sunday
ATTACH;FMTTYPE=image/jpeg:https://trinityboardmills.org/wp-content/uploads/2022/11/EveningServiceEV.jpg
GEO:54.466933365694;-5.9199475846608
END:VEVENT
BEGIN:VEVENT
DTSTART;TZID=UTC:20260503T193000
DTEND;TZID=UTC:20260503T210000
DTSTAMP:20260419T213337
CREATED:20260215T150238Z
LAST-MODIFIED:20260215T152628Z
UID:10019135-1777836600-1777842000@trinityboardmills.org
SUMMARY:Youth Fellowship
DESCRIPTION:
URL:https://trinityboardmills.org/event/youth-fellowship-5-2-3-2-2/2026-05-03/
LOCATION:McKee Hall\, BT27 6UP\, United Kingdom
CATEGORIES:YF Featured
ATTACH;FMTTYPE=image/jpeg:https://trinityboardmills.org/wp-content/uploads/2022/11/BreakfastITBEV.jpg
GEO:54.466933365694;-5.9199475846608
END:VEVENT
END:VCALENDAR