BEGIN:VCALENDAR
VERSION:2.0
PRODID:-//Trinity Presbyterian - ECPv6.15.20//NONSGML v1.0//EN
CALSCALE:GREGORIAN
METHOD:PUBLISH
X-ORIGINAL-URL:https://trinityboardmills.org
X-WR-CALDESC:Events for Trinity Presbyterian
REFRESH-INTERVAL;VALUE=DURATION:PT1H
X-Robots-Tag:noindex
X-PUBLISHED-TTL:PT1H
BEGIN:VTIMEZONE
TZID:UTC
BEGIN:STANDARD
TZOFFSETFROM:+0000
TZOFFSETTO:+0000
TZNAME:UTC
DTSTART:20250101T000000
END:STANDARD
END:VTIMEZONE
BEGIN:VEVENT
DTSTART;TZID=UTC:20260504T100000
DTEND;TZID=UTC:20260504T111500
DTSTAMP:20260419T182123
CREATED:20260104T141313Z
LAST-MODIFIED:20260326T092521Z
UID:10014687-1777888800-1777893300@trinityboardmills.org
SUMMARY:Trinity Tots
DESCRIPTION:
URL:https://trinityboardmills.org/event/trinity-tots-2-2-2-2-2/2026-05-04/
LOCATION:Killaney Hall
CATEGORIES:Trinity Tots Featured
ATTACH;FMTTYPE=image/jpeg:https://trinityboardmills.org/wp-content/uploads/2022/11/CrecheEV.jpg
GEO:54.4662977;-5.9128505
END:VEVENT
BEGIN:VEVENT
DTSTART;TZID=UTC:20260506T193000
DTEND;TZID=UTC:20260506T210000
DTSTAMP:20260419T182123
CREATED:20260215T145715Z
LAST-MODIFIED:20260215T145739Z
UID:10018219-1778095800-1778101200@trinityboardmills.org
SUMMARY:Fellowship Groups (Wed)
DESCRIPTION:This session we will be studying Welcome\, the first and third Wednesday of the month in Killaney Hall.
URL:https://trinityboardmills.org/event/fellowship-groups-wed-3-3-2-2-2-3/2026-05-06/
LOCATION:Killaney Hall
CATEGORIES:Fellowship Groups Featured
ATTACH;FMTTYPE=image/jpeg:https://trinityboardmills.org/wp-content/uploads/2022/11/FellowshipGroupEV.jpg
GEO:54.4662977;-5.9128505
END:VEVENT
BEGIN:VEVENT
DTSTART;TZID=UTC:20260507T103000
DTEND;TZID=UTC:20260507T113000
DTSTAMP:20260419T182123
CREATED:20230911T123435Z
LAST-MODIFIED:20260326T081458Z
UID:10013774-1778149800-1778153400@trinityboardmills.org
SUMMARY:Ladies Bible Study
DESCRIPTION:
URL:https://trinityboardmills.org/event/ladies-bible-study-2/2026-05-07/
LOCATION:Killaney Hall
CATEGORIES:Adults,Ladies
ATTACH;FMTTYPE=image/jpeg:https://trinityboardmills.org/wp-content/uploads/2022/11/LadiesBibleStudyEV.jpg
GEO:54.4662977;-5.9128505
END:VEVENT
BEGIN:VEVENT
DTSTART;TZID=UTC:20260507T193000
DTEND;TZID=UTC:20260507T210000
DTSTAMP:20260419T182123
CREATED:20260215T133206Z
LAST-MODIFIED:20260215T133223Z
UID:10018481-1778182200-1778187600@trinityboardmills.org
SUMMARY:Fellowship Groups (Thu)
DESCRIPTION:This session we will be studying Welcome\, the first and third Thursday of the month at Colin and Trish Foreman’s home.
URL:https://trinityboardmills.org/event/fellowship-groups-thu-3-2-2-3-2-2-2-3/2026-05-07/
CATEGORIES:Fellowship Groups Featured
ATTACH;FMTTYPE=image/jpeg:https://trinityboardmills.org/wp-content/uploads/2022/11/FellowshipGroupsEV.jpg
END:VEVENT
BEGIN:VEVENT
DTSTART;TZID=UTC:20260510T100000
DTEND;TZID=UTC:20260510T110000
DTSTAMP:20260419T182123
CREATED:20250820T100226Z
LAST-MODIFIED:20250820T100246Z
UID:10017514-1778407200-1778410800@trinityboardmills.org
SUMMARY:Prayer Meeting
DESCRIPTION:Join with us as we pray with the firm expectation that God will move in and through us by His Spirit.
URL:https://trinityboardmills.org/event/prayer-meeting-3/2026-05-10/
LOCATION:Church Building\, BT27 6UP\, United Kingdom
CATEGORIES:Adults
ATTACH;FMTTYPE=image/jpeg:https://trinityboardmills.org/wp-content/uploads/2024/06/Prayer-reduced.jpg
GEO:54.466933365694;-5.9199475846608
END:VEVENT
BEGIN:VEVENT
DTSTART;TZID=UTC:20260510T113000
DTEND;TZID=UTC:20260510T123000
DTSTAMP:20260419T182123
CREATED:20221031T111539Z
LAST-MODIFIED:20241217T123050Z
UID:10003080-1778412600-1778416200@trinityboardmills.org
SUMMARY:Morning Worship
DESCRIPTION:
URL:https://trinityboardmills.org/event/morning-service/2026-05-10/
LOCATION:Church Building\, BT27 6UP\, United Kingdom
CATEGORIES:Sunday
ATTACH;FMTTYPE=image/jpeg:https://trinityboardmills.org/wp-content/uploads/2022/11/SundayEV.jpg
GEO:54.466933365694;-5.9199475846608
END:VEVENT
BEGIN:VEVENT
DTSTART;TZID=UTC:20260510T114500
DTEND;TZID=UTC:20260510T123000
DTSTAMP:20260419T182123
CREATED:20221031T111350Z
LAST-MODIFIED:20241217T123139Z
UID:10007497-1778413500-1778416200@trinityboardmills.org
SUMMARY:Sunday CE & Creche
DESCRIPTION:
URL:https://trinityboardmills.org/event/sundayce/2026-05-10/
LOCATION:Kerr Room
CATEGORIES:Children
ATTACH;FMTTYPE=image/jpeg:https://trinityboardmills.org/wp-content/uploads/2022/11/SundayCEEV.jpg
END:VEVENT
BEGIN:VEVENT
DTSTART;TZID=UTC:20260510T183000
DTEND;TZID=UTC:20260510T191500
DTSTAMP:20260419T182123
CREATED:20240903T080905Z
LAST-MODIFIED:20260405T092003Z
UID:10010992-1778437800-1778440500@trinityboardmills.org
SUMMARY:Evening Service
DESCRIPTION:
URL:https://trinityboardmills.org/event/evening-service-2/2026-05-10/
LOCATION:Church Building\, BT27 6UP\, United Kingdom
CATEGORIES:Sunday
ATTACH;FMTTYPE=image/jpeg:https://trinityboardmills.org/wp-content/uploads/2022/11/EveningServiceEV.jpg
GEO:54.466933365694;-5.9199475846608
END:VEVENT
BEGIN:VEVENT
DTSTART;TZID=UTC:20260510T193000
DTEND;TZID=UTC:20260510T210000
DTSTAMP:20260419T182123
CREATED:20260215T153130Z
LAST-MODIFIED:20260215T153424Z
UID:10019151-1778441400-1778446800@trinityboardmills.org
SUMMARY:Youth Fellowship (Fellowship Group format)
DESCRIPTION:This session we will be studying Welcome\, every other Sunday evening 7:30-9pm @ McKee Hall
URL:https://trinityboardmills.org/event/youth-fellowship-fellowship-group-format-4/2026-05-10/
CATEGORIES:Fellowship Groups Featured,YF Featured
ATTACH;FMTTYPE=image/jpeg:https://trinityboardmills.org/wp-content/uploads/2022/11/FellowshipGroupEV.jpg
END:VEVENT
END:VCALENDAR